BEGIN:VCALENDAR
VERSION:2.0
PRODID:-//Rainier Valley Community Development Fund - ECPv6.15.13//NONSGML v1.0//EN
CALSCALE:GREGORIAN
METHOD:PUBLISH
X-WR-CALNAME:Rainier Valley Community Development Fund
X-ORIGINAL-URL:https://rvcdf.org
X-WR-CALDESC:Events for Rainier Valley Community Development Fund
REFRESH-INTERVAL;VALUE=DURATION:PT1H
X-Robots-Tag:noindex
X-PUBLISHED-TTL:PT1H
BEGIN:VTIMEZONE
TZID:UTC
BEGIN:STANDARD
TZOFFSETFROM:+0000
TZOFFSETTO:+0000
TZNAME:UTC
DTSTART:20240101T000000
END:STANDARD
END:VTIMEZONE
BEGIN:VTIMEZONE
TZID:America/Denver
BEGIN:DAYLIGHT
TZOFFSETFROM:-0700
TZOFFSETTO:-0600
TZNAME:MDT
DTSTART:20240310T090000
END:DAYLIGHT
BEGIN:STANDARD
TZOFFSETFROM:-0600
TZOFFSETTO:-0700
TZNAME:MST
DTSTART:20241103T080000
END:STANDARD
BEGIN:DAYLIGHT
TZOFFSETFROM:-0700
TZOFFSETTO:-0600
TZNAME:MDT
DTSTART:20250309T090000
END:DAYLIGHT
BEGIN:STANDARD
TZOFFSETFROM:-0600
TZOFFSETTO:-0700
TZNAME:MST
DTSTART:20251102T080000
END:STANDARD
BEGIN:DAYLIGHT
TZOFFSETFROM:-0700
TZOFFSETTO:-0600
TZNAME:MDT
DTSTART:20260308T090000
END:DAYLIGHT
BEGIN:STANDARD
TZOFFSETFROM:-0600
TZOFFSETTO:-0700
TZNAME:MST
DTSTART:20261101T080000
END:STANDARD
END:VTIMEZONE
BEGIN:VEVENT
DTSTART;TZID=UTC:20250809T173000
DTEND;TZID=UTC:20250809T193000
DTSTAMP:20260420T142814
CREATED:20250725T140706Z
LAST-MODIFIED:20250725T140706Z
UID:26119-1754760600-1754767800@rvcdf.org
SUMMARY:Rainier Rising: United for Youth Block Party
DESCRIPTION:Join us for the Rainier Rising: United for Youth Block Party — a community celebration to kick off the first day of the Rainier Rising Convening! Saturday\, August 9 5:30 PM – 7:30 PM Smilow Rainier Vista Boys & Girls Club4520 Martin Luther King Jr Way S\, Seattle\, WA 98108Come through for an evening of games\, open mic\, performances\, food trucks\, local vendors and community resources. It’s free and open to the public! Friends and family are welcome!Let’s gather\, connect and celebrate the incredible work happening for youth in our community
URL:https://rvcdf.org/event/rainier-rising-united-for-youth-block-party/
LOCATION:Smilow Rainier Vista Boys & Girls Club\, 4520 Martin Luther King Jr Way S\, Seattle\, WA\, 98108\, United States
CATEGORIES:Other
END:VEVENT
BEGIN:VEVENT
DTSTART;TZID=America/Denver:20250731T150000
DTEND;TZID=America/Denver:20250731T163000
DTSTAMP:20260420T142814
CREATED:20250715T015358Z
LAST-MODIFIED:20250715T043922Z
UID:26105-1753974000-1753979400@rvcdf.org
SUMMARY:Small Business Technical Assistance Workshop
DESCRIPTION:Join us for an informative and engaging session designed to connect small businesses with technical assistance and financing resources. This free workshop is ideal for entrepreneurs looking to grow\, build capacity\, or get connected with support services in the region. Let us help you access the tools\, resources\, and support you need to thrive. This session is open to all small business owners\, entrepreneurs\, and startups. Featured Presenters:  City of Tacoma – Equity in Contracting ProgramOverview of resources and contracting pathways City of Tacoma – Small Business Financing OpportunitiesLearn about current loan programs and capital tools City of Tacoma – Green Economy StrategyDiscover how small businesses can tap into green initiatives Washington SBDCBusiness advising\, planning\, and growth support Business Impact NWTechnical assistance for launching and scaling your businessRegister Here:  https://forms.office.com/Pages/ResponsePage.aspx?id=_OX4jnXzrkCrmeXO6YAScYuQYvxH7cdEvs90nN10p01UOEEwWjU1U05MQzlDNFIxRVBDUUxXRkhBTy4u
URL:https://rvcdf.org/event/small-business-technical-assistance-workshop/
LOCATION:Tacoma Municipal Building\, 747 Market Street\, Tacoma\, WA\, 98402\, United States
CATEGORIES:Other
END:VEVENT
BEGIN:VEVENT
DTSTART;VALUE=DATE:20250725
DTEND;VALUE=DATE:20250726
DTSTAMP:20260420T142814
CREATED:20250708T030945Z
LAST-MODIFIED:20250708T030945Z
UID:26026-1753401600-1753487999@rvcdf.org
SUMMARY:Summer Black Business Mixer w/ B.O.B.E
DESCRIPTION:Celebrate Black-owned business excellence at this annual mixer designed to connect and uplift Seattle’s Black business community.(Time and location TBD) 
URL:https://rvcdf.org/event/summer-black-business-mixer-w-b-o-b-e/
LOCATION:WA
CATEGORIES:Other
END:VEVENT
BEGIN:VEVENT
DTSTART;VALUE=DATE:20250721
DTEND;VALUE=DATE:20250816
DTSTAMP:20260420T142814
CREATED:20250725T140358Z
LAST-MODIFIED:20250725T140358Z
UID:26117-1753056000-1755302399@rvcdf.org
SUMMARY:1st Security Bank - Stuff the Bus
DESCRIPTION:Together with our communities\, we’re helping kids return to school ready to learn. 1st Security Bank’s annual “Stuff the Bus” school supply drive is back\, and each of their branches/offices has selected a local non-profit or elementary school to receive the donations of much-needed supplies to support students.Learn more at https://www.fsbwa.com/news-and-events/stuff-the-bus-2025 
URL:https://rvcdf.org/event/1st-security-bank-stuff-the-bus/
LOCATION:WA
END:VEVENT
BEGIN:VEVENT
DTSTART;TZID=America/Denver:20250717T110000
DTEND;TZID=America/Denver:20250717T140000
DTSTAMP:20260420T142814
CREATED:20250708T030355Z
LAST-MODIFIED:20250715T043945Z
UID:26022-1752750000-1752760800@rvcdf.org
SUMMARY:RVCDF Soft Opening
DESCRIPTION:
URL:https://rvcdf.org/event/rvcdf-soft-opening/
LOCATION:Rainier Valley Community Development Fund\, 2802 South McClellan Street\, Seattle\, WA\, 98144\, United States
CATEGORIES:RVCDF
ATTACH;FMTTYPE=image/png:https://rvcdf.org/wp-content/uploads/2025/07/Untitled-design.png
END:VEVENT
BEGIN:VEVENT
DTSTART;TZID=UTC:20250709T150000
DTEND;TZID=UTC:20250709T180000
DTSTAMP:20260420T142814
CREATED:20250708T025509Z
LAST-MODIFIED:20250708T025509Z
UID:26019-1752073200-1752084000@rvcdf.org
SUMMARY:Workshop: Seattle Small Business Happy Hour
DESCRIPTION:Join fellow small business owners for networking and resource-sharing at this casual workshop and happy hour event.
URL:https://rvcdf.org/event/workshop-seattle-small-business-happy-hour/
LOCATION:Amazon Skills Center\, 1007 Stewart St.\, Seattle\, WA\, 98101\, United States
END:VEVENT
BEGIN:VEVENT
DTSTART;TZID=UTC:20250403T170000
DTEND;TZID=UTC:20250403T190000
DTSTAMP:20260420T142814
CREATED:20250226T101203Z
LAST-MODIFIED:20250226T101203Z
UID:25008-1743699600-1743706800@rvcdf.org
SUMMARY:2025 Community Impact Event
DESCRIPTION:Join us for the 2025 Annual Rainier Valley Community Development Fund’s Community Impact Event. Food\, drink and music provided. Invite only.
URL:https://rvcdf.org/event/2025-community-impact-event/
LOCATION:New Holly Gathering Hall\, 7054 32nd Ave S\, Seattle\, WA\, 98118\, United States
ATTACH;FMTTYPE=image/jpeg:https://rvcdf.org/wp-content/uploads/2025/02/t6.jpg
END:VEVENT
END:VCALENDAR