BEGIN:VCALENDAR
VERSION:2.0
PRODID:-//Rainier Valley Community Development Fund - ECPv6.15.13//NONSGML v1.0//EN
CALSCALE:GREGORIAN
METHOD:PUBLISH
X-WR-CALNAME:Rainier Valley Community Development Fund
X-ORIGINAL-URL:https://rvcdf.org
X-WR-CALDESC:Events for Rainier Valley Community Development Fund
REFRESH-INTERVAL;VALUE=DURATION:PT1H
X-Robots-Tag:noindex
X-PUBLISHED-TTL:PT1H
BEGIN:VTIMEZONE
TZID:America/Los_Angeles
BEGIN:DAYLIGHT
TZOFFSETFROM:-0800
TZOFFSETTO:-0700
TZNAME:PDT
DTSTART:20250309T100000
END:DAYLIGHT
BEGIN:STANDARD
TZOFFSETFROM:-0700
TZOFFSETTO:-0800
TZNAME:PST
DTSTART:20251102T090000
END:STANDARD
BEGIN:DAYLIGHT
TZOFFSETFROM:-0800
TZOFFSETTO:-0700
TZNAME:PDT
DTSTART:20260308T100000
END:DAYLIGHT
BEGIN:STANDARD
TZOFFSETFROM:-0700
TZOFFSETTO:-0800
TZNAME:PST
DTSTART:20261101T090000
END:STANDARD
BEGIN:DAYLIGHT
TZOFFSETFROM:-0800
TZOFFSETTO:-0700
TZNAME:PDT
DTSTART:20270314T100000
END:DAYLIGHT
BEGIN:STANDARD
TZOFFSETFROM:-0700
TZOFFSETTO:-0800
TZNAME:PST
DTSTART:20271107T090000
END:STANDARD
END:VTIMEZONE
BEGIN:VEVENT
DTSTART;TZID=America/Los_Angeles:20260128T110000
DTEND;TZID=America/Los_Angeles:20260128T130000
DTSTAMP:20260420T074252
CREATED:20251203T072953Z
LAST-MODIFIED:20251203T072953Z
UID:26398-1769598000-1769605200@rvcdf.org
SUMMARY:Business Advising 1/28
DESCRIPTION:RVCDF is in West Seattle! If you own a small business and would like to connect and get support\, information on our loans\, or one-on-one advising\, come see us every Wednesday from 11am – 1pm at the Black Legacy Institute. 2656 42nd Ave SW\, Seattle\, WA 98116. For more information contact us at info@rvcdf.org
URL:https://rvcdf.org/event/business-advising-1-28/
LOCATION:Washington State Black Legacy Institute\, 2656 42nd Ave SW\, Seattle\, WA\, 98007\, United States
CATEGORIES:RVCDF
END:VEVENT
END:VCALENDAR